BEGIN:VCALENDAR
VERSION:2.0
PRODID:-//Del Valle Winery - ECPv6.15.20//NONSGML v1.0//EN
CALSCALE:GREGORIAN
METHOD:PUBLISH
X-ORIGINAL-URL:https://delvallewinery.com
X-WR-CALDESC:Events for Del Valle Winery
REFRESH-INTERVAL;VALUE=DURATION:PT1H
X-Robots-Tag:noindex
X-PUBLISHED-TTL:PT1H
BEGIN:VTIMEZONE
TZID:America/Los_Angeles
BEGIN:DAYLIGHT
TZOFFSETFROM:-0800
TZOFFSETTO:-0700
TZNAME:PDT
DTSTART:20240310T100000
END:DAYLIGHT
BEGIN:STANDARD
TZOFFSETFROM:-0700
TZOFFSETTO:-0800
TZNAME:PST
DTSTART:20241103T090000
END:STANDARD
BEGIN:DAYLIGHT
TZOFFSETFROM:-0800
TZOFFSETTO:-0700
TZNAME:PDT
DTSTART:20250309T100000
END:DAYLIGHT
BEGIN:STANDARD
TZOFFSETFROM:-0700
TZOFFSETTO:-0800
TZNAME:PST
DTSTART:20251102T090000
END:STANDARD
BEGIN:DAYLIGHT
TZOFFSETFROM:-0800
TZOFFSETTO:-0700
TZNAME:PDT
DTSTART:20260308T100000
END:DAYLIGHT
BEGIN:STANDARD
TZOFFSETFROM:-0700
TZOFFSETTO:-0800
TZNAME:PST
DTSTART:20261101T090000
END:STANDARD
BEGIN:DAYLIGHT
TZOFFSETFROM:-0800
TZOFFSETTO:-0700
TZNAME:PDT
DTSTART:20270314T100000
END:DAYLIGHT
BEGIN:STANDARD
TZOFFSETFROM:-0700
TZOFFSETTO:-0800
TZNAME:PST
DTSTART:20271107T090000
END:STANDARD
END:VTIMEZONE
BEGIN:VEVENT
DTSTART;TZID=America/Los_Angeles:20260417T180000
DTEND;TZID=America/Los_Angeles:20260417T210000
DTSTAMP:20260424T123609
CREATED:20251124T135745Z
LAST-MODIFIED:20251124T135745Z
UID:6948-1776448800-1776459600@delvallewinery.com
SUMMARY:The Hurricane Band
DESCRIPTION:Fire Pit Fridays live music with The Hurricane Band! Open seating\, no reservations needed. Enjoy wines by the glass and bottle. No outside food. We will be serving a delicious food from the kitchen to complement our wine selection.
URL:https://delvallewinery.com/event/the-hurricane-band-5/
CATEGORIES:Event,Music
END:VEVENT
BEGIN:VEVENT
DTSTART;TZID=America/Los_Angeles:20260410T180000
DTEND;TZID=America/Los_Angeles:20260410T210000
DTSTAMP:20260424T123609
CREATED:20251125T140514Z
LAST-MODIFIED:20251125T140514Z
UID:6978-1775844000-1775854800@delvallewinery.com
SUMMARY:The Vigilantes
DESCRIPTION:Fire Pit Fridays live music with The Vigilantes! Open seating\, no reservations needed. Enjoy wines by the glass and bottle. No outside food. We will be serving a delicious food from the kitchen to complement our wine selection.
URL:https://delvallewinery.com/event/the-vigilantes-11/
CATEGORIES:Event,Music
END:VEVENT
BEGIN:VEVENT
DTSTART;TZID=America/Los_Angeles:20260403T180000
DTEND;TZID=America/Los_Angeles:20260403T210000
DTSTAMP:20260424T123609
CREATED:20251124T135655Z
LAST-MODIFIED:20251124T135655Z
UID:6946-1775239200-1775250000@delvallewinery.com
SUMMARY:Jack Quigley with Ed Feifert and Ron Tripp
DESCRIPTION:Fire Pit Fridays live music with Jack Quigley! Open seating\, no reservations needed. Enjoy wines by the glass and bottle. No outside food. We will be serving a delicious food from the kitchen to complement our wine selection.
URL:https://delvallewinery.com/event/jack-quigley-with-ed-feifert-and-ron-tripp/
CATEGORIES:Event,Music
END:VEVENT
BEGIN:VEVENT
DTSTART;TZID=America/Los_Angeles:20260327T180000
DTEND;TZID=America/Los_Angeles:20260327T210000
DTSTAMP:20260424T123609
CREATED:20251125T140403Z
LAST-MODIFIED:20251125T140403Z
UID:6976-1774634400-1774645200@delvallewinery.com
SUMMARY:LunaFish
DESCRIPTION:Fire Pit Fridays live music with LunaFish! Open seating\, no reservations needed. Enjoy wines by the glass and bottle. No outside food. We will be serving a delicious food from the kitchen to complement our wine selection.
URL:https://delvallewinery.com/event/lunafish-10/
CATEGORIES:Event,Music
END:VEVENT
BEGIN:VEVENT
DTSTART;TZID=America/Los_Angeles:20260324T173000
DTEND;TZID=America/Los_Angeles:20260324T193000
DTSTAMP:20260424T123609
CREATED:20260323T133113Z
LAST-MODIFIED:20260323T133113Z
UID:7282-1774373400-1774380600@delvallewinery.com
SUMMARY:Women Who Crush It: A Women’s Wine Collective Event
DESCRIPTION:Tuesday\, March 24\, 2026 (5:30 – 7:30pm)\nConcannon Vineyard\n4590 Tesla Road\nLivermore\, CA 94550 \nEnjoy an evening of wine tasting with the Women’s Wine Collective of the Livermore Valley.\nCelebrate Women’s History Month with a unique wine tasting event featuring 17 female-driven Livermore Valley Wineries!  Meet the women behind the wines as they each pour two of their favorites of the season.  The event will take place at the beautiful Concannon Vineyard.  A food truck will be available for purchase.  Bluebirds Chocolate will have decadent chocolates for sale on site. \n\nTickets are $35    \nParticipating Wineries: \nAlmost Famous Wine Company\, Cellar 13\, Charles R Vineyards\, Concannon Vineyard\, Darcie Kent Estate Winery\, Del Valle Winery\, Fenestra Winery\, Garré Vineyard & Winery\, JMC Cellars\, McGrail Vineyards & Winery\, Omega Road Winery\, Rodrigue Molyneaux Winery\, Rosa Fierro Cellars\, Sakura Winery\, The Steven Kent Winery\, Wente Vineyards & Wood Family Vineyards \n  \nA portion of the proceeds to benefit Tri Valley Haven.
URL:https://delvallewinery.com/event/women-who-crush-it-a-womens-wine-collective-event/
CATEGORIES:Event,Wine Tasting
END:VEVENT
BEGIN:VEVENT
DTSTART;TZID=America/Los_Angeles:20260320T180000
DTEND;TZID=America/Los_Angeles:20260320T210000
DTSTAMP:20260424T123609
CREATED:20251125T140225Z
LAST-MODIFIED:20251125T140225Z
UID:6972-1774029600-1774040400@delvallewinery.com
SUMMARY:The Blues Bottle Band
DESCRIPTION:Fire Pit Fridays live music with The Blues Bottle Band! Open seating\, no reservations needed. Enjoy wines by the glass and bottle. No outside food. We will be serving a delicious food from the kitchen to complement our wine selection.
URL:https://delvallewinery.com/event/the-blues-bottle-band/
CATEGORIES:Event,Music
END:VEVENT
BEGIN:VEVENT
DTSTART;TZID=America/Los_Angeles:20260313T180000
DTEND;TZID=America/Los_Angeles:20260313T180000
DTSTAMP:20260424T123609
CREATED:20251125T140139Z
LAST-MODIFIED:20260307T204051Z
UID:6970-1773424800-1773424800@delvallewinery.com
SUMMARY:Frankie Bones
DESCRIPTION:Fire Pit Fridays live music with Frankie Bones! Open seating\, no reservations needed. Enjoy wines by the glass and bottle. No outside food. We will be serving a delicious food from the kitchen to complement our wine selection.
URL:https://delvallewinery.com/event/jneen/
CATEGORIES:Event,Music
END:VEVENT
BEGIN:VEVENT
DTSTART;TZID=America/Los_Angeles:20260307T173000
DTEND;TZID=America/Los_Angeles:20260307T210000
DTSTAMP:20260424T123609
CREATED:20260130T151306Z
LAST-MODIFIED:20260130T151306Z
UID:7140-1772904600-1772917200@delvallewinery.com
SUMMARY:Terroir at the Table - A Celebration of Women\, Wine and Community
DESCRIPTION:Terroir at the Table –\nA Celebration of Women\, Wine\, and Community \n\n\nPresented by the Women’s Wine Collective of Livermore Valley \n\n\nSaturday\, March 7\, 2026 | 5:30 PM\nMartinelli Event Center\, Livermore\n$175 per person \n\n\nTICKETS \n\n\nSomething extraordinary is coming to Livermore Valley\, and you’re invited to be part of it. Terroir at the Table is a first-of-its-kind culinary celebration that brings together some of the most talented female chefs and winemakers in our region for an evening of exceptional food\, incredible wine\, and meaningful connection. This intimate 8-course tasting menu showcases the best of what Livermore Valley has to offer—from soil to glass\, from kitchen to table. \n\n\n  \nThe Experience \n\n\nEach course has been thoughtfully created by a celebrated local female chef and expertly paired with wine from a female-led winery. Beyond the extraordinary food and wine\, you’ll have the opportunity to meet the chefs and winemakers behind each course\, connect with fellow food and wine enthusiasts\, and witness the inaugural presentation of our Woman of the Year Award—honoring a local woman whose contributions make Livermore Valley a better place for all of us. \n\n\n  \nEvent Details \n\n\nSaturday\, March 7\, 2026 at 5:30 PM\nMartinelli Event Center\, Livermore\n$175 per person \n\n\n*A portion of proceeds will benefit local nonprofits\, including a charitable donation selected by our Woman of the Year recipient. \n\n\nDress Code is Elevated casual. \n  \n\n\nFeatured Chefs \nAurora Nava of Flaca’s\, Amanda Skog of Beyond the Table\, Tiana Megofna of The Mego Kitchen\, Debbie Casey of My Chef Debbie\, Julia McGurk of The Cheese Parlor\, Julia Steinman of Charming Fig\, Kim Gamble of Lanna Thai\, and Larissa Milano of Bluebirds Chocolate \n\n\n  \nFeatured Wineries \nDarcie Kent Estate Winery\, Del Valle Winery\, JMC Cellars\, McGrail Vineyards & Winery\, Omega Road Winery\, Rosa Fierro Cellars\, Sakura Winery\, and The Steven Kent Winery  \n\n\nThis is more than a dinner—it’s a celebration of the extraordinary women shaping our community\, one plate and one glass at a time. With extremely limited seating\, this is an event you won’t want to miss. \n\n\nSecure your seat at the table. \n 
URL:https://delvallewinery.com/event/terroir-at-the-table-a-celebration-of-women-wine-and-community/
CATEGORIES:Event
END:VEVENT
BEGIN:VEVENT
DTSTART;TZID=America/Los_Angeles:20260306T180000
DTEND;TZID=America/Los_Angeles:20260306T210000
DTSTAMP:20260424T123609
CREATED:20251125T140318Z
LAST-MODIFIED:20251125T140318Z
UID:6974-1772820000-1772830800@delvallewinery.com
SUMMARY:Urban Sky
DESCRIPTION:Fire Pit Fridays live music with Urban Sky! Open seating\, no reservations needed. Enjoy wines by the glass and bottle. No outside food. We will be serving a delicious food from the kitchen to complement our wine selection.
URL:https://delvallewinery.com/event/urban-sky-11/
CATEGORIES:Event,Music
END:VEVENT
BEGIN:VEVENT
DTSTART;TZID=America/Los_Angeles:20260227T180000
DTEND;TZID=America/Los_Angeles:20260227T210000
DTSTAMP:20260424T123609
CREATED:20251125T140052Z
LAST-MODIFIED:20251125T140052Z
UID:6968-1772215200-1772226000@delvallewinery.com
SUMMARY:Evan Thomas
DESCRIPTION:Fire Pit Fridays live music with Evan Thomas! Open seating\, no reservations needed. Enjoy wines by the glass and bottle. No outside food. We will be serving a delicious food from the kitchen to complement our wine selection.
URL:https://delvallewinery.com/event/evan-thomas-8/
CATEGORIES:Event,Music
END:VEVENT
BEGIN:VEVENT
DTSTART;TZID=America/Los_Angeles:20260220T180000
DTEND;TZID=America/Los_Angeles:20260220T210000
DTSTAMP:20260424T123609
CREATED:20251125T140014Z
LAST-MODIFIED:20251125T140014Z
UID:6966-1771610400-1771621200@delvallewinery.com
SUMMARY:Red Red Wine Band
DESCRIPTION:Fire Pit Fridays live music with Red Red Wine Band! Open seating\, no reservations needed. Enjoy wines by the glass and bottle. No outside food. We will be serving a delicious food from the kitchen to complement our wine selection.
URL:https://delvallewinery.com/event/red-red-wine-band/
CATEGORIES:Event,Music
END:VEVENT
BEGIN:VEVENT
DTSTART;TZID=America/Los_Angeles:20260213T180000
DTEND;TZID=America/Los_Angeles:20260213T210000
DTSTAMP:20260424T123609
CREATED:20251125T135848Z
LAST-MODIFIED:20251125T135848Z
UID:6962-1771005600-1771016400@delvallewinery.com
SUMMARY:Road Runner
DESCRIPTION:Fire Pit Fridays live music with Road Runner! Open seating\, no reservations needed. Enjoy wines by the glass and bottle. No outside food. We will be serving a delicious food from the kitchen to complement our wine selection.
URL:https://delvallewinery.com/event/road-runner-2/
CATEGORIES:Event,Music
END:VEVENT
BEGIN:VEVENT
DTSTART;TZID=America/Los_Angeles:20260206T180000
DTEND;TZID=America/Los_Angeles:20260206T210000
DTSTAMP:20260424T123609
CREATED:20251124T135546Z
LAST-MODIFIED:20251124T135546Z
UID:6944-1770400800-1770411600@delvallewinery.com
SUMMARY:Kinetic
DESCRIPTION:Fire Pit Fridays live music with Kinetic! Open seating\, no reservations needed. Enjoy wines by the glass and bottle. No outside food. We will be serving a delicious food from the kitchen to complement our wine selection.
URL:https://delvallewinery.com/event/kinetic-8/
CATEGORIES:Event,Music
END:VEVENT
BEGIN:VEVENT
DTSTART;TZID=America/Los_Angeles:20260130T180000
DTEND;TZID=America/Los_Angeles:20260130T210000
DTSTAMP:20260424T123609
CREATED:20251125T135756Z
LAST-MODIFIED:20251125T135756Z
UID:6960-1769796000-1769806800@delvallewinery.com
SUMMARY:Sugar Bear
DESCRIPTION:Fire Pit Fridays live music with Sugar Bear! Open seating\, no reservations needed. Enjoy wines by the glass and bottle. No outside food. We will be serving a delicious food from the kitchen to complement our wine selection.
URL:https://delvallewinery.com/event/sugar-bear-11/
CATEGORIES:Event,Music
END:VEVENT
BEGIN:VEVENT
DTSTART;TZID=America/Los_Angeles:20260123T180000
DTEND;TZID=America/Los_Angeles:20260123T210000
DTSTAMP:20260424T123609
CREATED:20251125T135617Z
LAST-MODIFIED:20251125T135617Z
UID:6958-1769191200-1769202000@delvallewinery.com
SUMMARY:The Vigilantes
DESCRIPTION:Fire Pit Fridays live music with The Vigilantes! Open seating\, no reservations needed. Enjoy wines by the glass and bottle. No outside food. We will be serving a delicious food from the kitchen to complement our wine selection.
URL:https://delvallewinery.com/event/the-vigilantes-10/
CATEGORIES:Event,Music
END:VEVENT
BEGIN:VEVENT
DTSTART;TZID=America/Los_Angeles:20260116T180000
DTEND;TZID=America/Los_Angeles:20260116T210000
DTSTAMP:20260424T123609
CREATED:20251125T135531Z
LAST-MODIFIED:20251125T135531Z
UID:6956-1768586400-1768597200@delvallewinery.com
SUMMARY:Rattle Tone
DESCRIPTION:Fire Pit Fridays live music with Rattle Tone! Open seating\, no reservations needed. Enjoy wines by the glass and bottle. No outside food. We will be serving a delicious food from the kitchen to complement our wine selection.
URL:https://delvallewinery.com/event/rattle-tone/
CATEGORIES:Event,Music
END:VEVENT
BEGIN:VEVENT
DTSTART;TZID=America/Los_Angeles:20260109T180000
DTEND;TZID=America/Los_Angeles:20260109T210000
DTSTAMP:20260424T123609
CREATED:20251125T135447Z
LAST-MODIFIED:20251125T135447Z
UID:6954-1767981600-1767992400@delvallewinery.com
SUMMARY:LunaFish
DESCRIPTION:Fire Pit Fridays live music with LunaFish! Open seating\, no reservations needed. Enjoy wines by the glass and bottle. No outside food. We will be serving a delicious food from the kitchen to complement our wine selection.
URL:https://delvallewinery.com/event/lunafish-9/
CATEGORIES:Event,Music
END:VEVENT
BEGIN:VEVENT
DTSTART;TZID=America/Los_Angeles:20251207T120000
DTEND;TZID=America/Los_Angeles:20251207T163000
DTSTAMP:20260424T123609
CREATED:20251124T134328Z
LAST-MODIFIED:20251205T151520Z
UID:6941-1765108800-1765125000@delvallewinery.com
SUMMARY:Holidays in the Vineyards
DESCRIPTION:Sip\, Savor\, Shop Local.\nThe Perfect Way to Complete Your Holiday Shopping.\nJoin us for a beloved Livermore Valley Wine Community holiday tradition! \nExperience the magic of the season as our wineries transform their tasting rooms into festive wonderlands\, complete with special wines\, local artisan crafts\, holiday music\, activities\, and more. \nSaturday\, December 6th Live music with Jack Quigley from 1 – 4pm \nSunday\, December 7th Live music with Robert Allen from 1 – 4pm \nHolidays in the Vineyard Vendors 12 – 4:30pm\nUnder a Gypsy Moon\nHandloom Company\nPenguin Plank\nDalton’s Jewelry\nChalk Couture\nLip Sense\nShabby Sugar\nLiskey Olive Oil \nGive Back This Holiday Season \n \nWe’re proud to partner with Pacific States Petroleum for our annual Toys for Tots drive. Bring an unwrapped toy to any participating winery\, and Pacific States Petroleum will match your donation toy-for-toy (up to $25\,000). All collected toys will be delivered to the U.S. Marine Corps Reserve to distribute to children in our local community.
URL:https://delvallewinery.com/event/6941/
CATEGORIES:Event,Holiday,Music,Wine Tasting
END:VEVENT
BEGIN:VEVENT
DTSTART;TZID=America/Los_Angeles:20251206T120000
DTEND;TZID=America/Los_Angeles:20251206T163000
DTSTAMP:20260424T123609
CREATED:20251124T134223Z
LAST-MODIFIED:20251205T142437Z
UID:6939-1765022400-1765038600@delvallewinery.com
SUMMARY:Holidays in the Vineyards
DESCRIPTION:Sip\, Savor\, Shop Local.\nThe Perfect Way to Complete Your Holiday Shopping.\nJoin us for a beloved Livermore Valley Wine Community holiday tradition! \nExperience the magic of the season as our wineries transform their tasting rooms into festive wonderlands\, complete with special wines\, local artisan crafts\, holiday music\, activities\, and more. \nSaturday\, December 6th Live music with Jack Quigley from 1 – 4pm \nSunday\, December 7th Live music with Robert Allen from 1 – 4pm \nHolidays in the Vineyard Vendors 12 – 4:30pm\nUnder a Gypsy Moon\nBontreaux\nHandloom Company\nPenguin Plank\nDalton’s Jewelry\nBangles and Bovines\nChalk Couture\nLip Sense\nShabby Sugar\nLiskey Olive Oil\nJuanpeno Hot Sauces\nBlonde Bronco Co. \nGive Back This Holiday Season \n \nWe’re proud to partner with Pacific States Petroleum for our annual Toys for Tots drive. Bring an unwrapped toy to any participating winery\, and Pacific States Petroleum will match your donation toy-for-toy (up to $25\,000). All collected toys will be delivered to the U.S. Marine Corps Reserve to distribute to children in our local community.
URL:https://delvallewinery.com/event/holiday-in-the-vineyards-2/
CATEGORIES:Event,Holiday,Music,Wine Tasting
END:VEVENT
BEGIN:VEVENT
DTSTART;TZID=America/Los_Angeles:20251018T120000
DTEND;TZID=America/Los_Angeles:20251018T140000
DTSTAMP:20260424T123609
CREATED:20250821T133213Z
LAST-MODIFIED:20250821T133213Z
UID:6618-1760788800-1760796000@delvallewinery.com
SUMMARY:Sip. Savor. Stomp.
DESCRIPTION:Sip. Savor. Stomp. | $75\n12-2 PM | Del Valle Winery\n \nJoin Del Valle Winery and Garré Vineyard & Winery for a lively celebration of the October harvest! \n\nSavor six Gold Medal wines paired with a seasonal four-course\, family-style brunch thoughtfully crafted by the Del Valle Kitchen. Then\, roll up your pants and jump into the fun with a casual grape stomp—go solo or grab a friend! \nEach ticket includes a commemorative t-shirt to mark the occasion. \nCome ready to sip\, savor\, and stomp your way into the harvest season! \n\n👥 Participating Wineries: Del Valle Winery and Garré Vineyard & Winery \nLocation: Del Valle Winery\, 4948 Tesla Road\, Livermore\, CA. 94550 \nTicket Price: $75
URL:https://delvallewinery.com/event/sip-savor-stomp-2/
CATEGORIES:Event
END:VEVENT
BEGIN:VEVENT
DTSTART;TZID=America/Los_Angeles:20251017T130000
DTEND;TZID=America/Los_Angeles:20251017T150000
DTSTAMP:20260424T123609
CREATED:20250821T133038Z
LAST-MODIFIED:20250821T133038Z
UID:6616-1760706000-1760713200@delvallewinery.com
SUMMARY:Cheese & Wine Pairing
DESCRIPTION:Cheese & Wine Pairing | $80\n1-3 PM | Del Valle Winery\n \nDel Valle Winery\, Fenestra Winery\, and Garré Vineyard & Winery are teaming up with The Cheese Parlor for a six-course cheese and wine pairing like no other. \nJoin us under the majestic Del Valle Sangiovese Arbor as winemaker Aaron Luna and Cheesemonger Brandon Wood guide you through a curated tasting experience. Enjoy six unique wine and cheese pairings\, each thoughtfully complemented with playful and delicious accoutrements. \nExpect great stories\, expert insights\, and magical flavor combinations in a beautiful vineyard setting. \n👥 Participating Wineries & Partners: Del Valle Winery\, Fenestra Winery\, Garré Vineyard & Winery\, and The Cheese Parlor \nLocation: Del Valle Winery\, 4948 Tesla Road\, Livermore\, CA. 94550 \nTicket Price: $80
URL:https://delvallewinery.com/event/cheese-wine-pairing/
CATEGORIES:Event
END:VEVENT
BEGIN:VEVENT
DTSTART;TZID=America/Los_Angeles:20251016T180000
DTEND;TZID=America/Los_Angeles:20251016T210000
DTSTAMP:20260424T123609
CREATED:20250821T132745Z
LAST-MODIFIED:20250821T132745Z
UID:6614-1760637600-1760648400@delvallewinery.com
SUMMARY:Taste our Terroir
DESCRIPTION:Taste Our Terroir | VIP* $175 | Reserve $125\nVIP 4:30 PM | Reserve: Check-in 5:30 PM\, Entry Begins at 6 PM\nWente Family Vineyards\, Terrace Lawn\n \nJoin us for the decades-long tradition of the annual Livermore Valley food and wine competition\, where teams compete for the perfect bite. At a new location this year\, Terrace Lawn at Wente Family Vineyards\, this exclusive event brings together twenty talented teams—a Livermore Valley winery paired with a local restaurant—competing to create the perfect curated bite. \nThe Competition Experience\nThree esteemed judges conduct blind tastings to determine the ultimate food and wine pairings. Our distinguished panel includes Keith Beavers\, Tastings Director of VinePair and Host of VinePair’s Wine 101 podcast; Chef Emily Lim\, founder of Dabao Singapore in San Francisco and James Beard Award nominee for Emerging Chef; and Clive Pursehouse\, Decanter Magazine’s US Editor. They will select winners in three prestigious categories: Best Classic Pairing\, Most Innovative Pairing\, and Judge’s Best Pairing. \nAs our guest\, you’ll have the power to vote for the People’s Choice Awards for Best Red Wine Pairing and Best White Wine Pairing. Who will be the team that will win your vote? \nVIP* Experience\nElevate your evening with our VIP tickets featuring an extra hour; an exclusive intimate experience to try all competition pairings\, the opportunity to converse with each winery and restaurant team\, private access to the VIP lounge\, sparkling wine upon arrival with special appetizer. \n*This event is included in the Make it a Weekend Purple Orchid package\, learn more by clicking HERE* \nWhat’s Included\nEvery guest will have the opportunity to try all food and wine pairings from 20 teams along with participating in voting for People’s Choice awards\, an exquisite dessert table\, commemorative glass to take home\, and an unforgettable evening celebrating the connection between Livermore Valley terroir and taste. \nExperience the magic where Livermore Valley’s finest wineries and local restaurants collaborate to showcase the unique character of our region. This is more than just a tasting—it’s an immersive celebration of our distinctive terroir while cultivating relationships with the Livermore Valley Wine Community. Come discover why this competition has become the premier culinary event that kicks off TASTE: The Livermore Valley Wine Experience\, where passionate winemakers and talented chefs unite to tell the story of our valley through every carefully crafted bite and sip. \nBUY TICKETS
URL:https://delvallewinery.com/event/taste-our-terroir/
CATEGORIES:Event
END:VEVENT
BEGIN:VEVENT
DTSTART;TZID=America/Los_Angeles:20251012T130000
DTEND;TZID=America/Los_Angeles:20251012T160000
DTSTAMP:20260424T123609
CREATED:20250924T232236Z
LAST-MODIFIED:20250924T232320Z
UID:6752-1760274000-1760284800@delvallewinery.com
SUMMARY:Paws and Pours
DESCRIPTION:Unleash a day of fun at Paws & Pours\, the ultimate pet-friendly event! Valley Humane Society will be joining us for a special adoption event. With live music with Jake\, award winning wines\, and gourmet bites for both humans and pups\, it’s the perfect outing for wine lovers and dog lovers alike. Leashes required. \n 
URL:https://delvallewinery.com/event/paws-and-pours-2/
CATEGORIES:Event,Music
END:VEVENT
BEGIN:VEVENT
DTSTART;TZID=America/Los_Angeles:20250910T170000
DTEND;TZID=America/Los_Angeles:20250910T200000
DTSTAMP:20260424T123609
CREATED:20250821T132548Z
LAST-MODIFIED:20250825T123426Z
UID:6611-1757523600-1757534400@delvallewinery.com
SUMMARY:Wine Wednesday
DESCRIPTION:Each Wednesday\, one Livermore Valley Winery will kicks off “Winery of the Week” by hosting Wine Wednesday. Join us Wednesday\, September 10th from 5-8pm to wine-down from a hefty work week! Live music from Carman Hammond and wines by the glass or bottle.
URL:https://delvallewinery.com/event/wine-wednesday-3/
CATEGORIES:Event,Music
END:VEVENT
BEGIN:VEVENT
DTSTART;TZID=America/Los_Angeles:20250817T110000
DTEND;TZID=America/Los_Angeles:20250817T170000
DTSTAMP:20260424T123610
CREATED:20250813T132947Z
LAST-MODIFIED:20250813T132947Z
UID:6593-1755428400-1755450000@delvallewinery.com
SUMMARY:Happy Camper Release Party
DESCRIPTION:We will be closed this Sunday\, August 17th to host our Happy Camper Release Party. Club members check your email for details.
URL:https://delvallewinery.com/event/happy-camper-release-party-3/
CATEGORIES:Event,Members,Release Party
END:VEVENT
BEGIN:VEVENT
DTSTART;TZID=America/Los_Angeles:20250720T110000
DTEND;TZID=America/Los_Angeles:20250720T150000
DTSTAMP:20260424T123610
CREATED:20250709T155345Z
LAST-MODIFIED:20250709T155345Z
UID:6429-1753009200-1753023600@delvallewinery.com
SUMMARY:Breakfast at Tiffany's Exclusive Candle Experience
DESCRIPTION:Breakfast at Tiffany’s Exclusive Candle Experience\nJuly 20th @ 11am \nJoin us for an exclusive\, one-of-a-kind candle-making adventure with the Visiting Crow. Drive into a world of creativity as you craft luxurious\, fragrant candles that will brighten up your space.
URL:https://delvallewinery.com/event/breakfast-at-tiffanys-exclusive-candle-experience/
CATEGORIES:Event
END:VEVENT
BEGIN:VEVENT
DTSTART;TZID=America/Los_Angeles:20250712T170000
DTEND;TZID=America/Los_Angeles:20250712T210000
DTSTAMP:20260424T123610
CREATED:20250603T024049Z
LAST-MODIFIED:20250603T181424Z
UID:6264-1752339600-1752354000@delvallewinery.com
SUMMARY:Del Valle Winery Summer Shindig Starring Mitch Polzak and Loren O
DESCRIPTION:Saddle Up For The Second Annual Del Valle Winery Summer Shindig!\n\n\nJuly 12 @ 5:00 Pm – 9:00 Pm PDT\n\n\nIt’s the biggest bash of the summer\, so dust off your cowboy boots and break out your best western duds—because this is going to be one unforgettable night under the stars. \nClick Here For Tickets and More Information \n\n\nWe’re bringing the heat with food\, wine\, beer\, and a live performance by the electrifying Mitch Polzak—one of the most high-octane entertainers you’ll ever see. Kicking things off is Livermore’s own hometown hero\, Loren O.\, setting the stage for a night of music and memories. \nTickets are $35 for the general public and $30 for members. \n\n\nDel Valle Happy Camper Wine Club members get $5 off—just use code DELVALLE2024 at checkout. (Proof of membership required.)
URL:https://delvallewinery.com/event/del-valle-winery-summer-shindig-starring-mitch-polzak-and-loren-o/
CATEGORIES:Event,Music
ATTACH;FMTTYPE=image/jpeg:https://delvallewinery.com/wp-content/uploads/2025/06/2025-July-12-Del-Valle-Summer-Shindig-1200-600.jpg
END:VEVENT
BEGIN:VEVENT
DTSTART;TZID=America/Los_Angeles:20250620T180000
DTEND;TZID=America/Los_Angeles:20250620T210000
DTSTAMP:20260424T123610
CREATED:20250331T121938Z
LAST-MODIFIED:20250331T121938Z
UID:6004-1750442400-1750453200@delvallewinery.com
SUMMARY:Luna Fish
DESCRIPTION:Fire Pit Fridays live music with Luna Fish! Open seating\, no reservations needed. Enjoy wines by the glass and bottle.\nNo outside food. We will be serving a delicious food from the kitchen to complement our wine selection.
URL:https://delvallewinery.com/event/luna-fish-2/
CATEGORIES:Event,Music
END:VEVENT
BEGIN:VEVENT
DTSTART;TZID=America/Los_Angeles:20250615T130000
DTEND;TZID=America/Los_Angeles:20250615T160000
DTSTAMP:20260424T123610
CREATED:20250513T140531Z
LAST-MODIFIED:20250513T140531Z
UID:6153-1749992400-1750003200@delvallewinery.com
SUMMARY:Summer Sips and Sounds with EP Sax
DESCRIPTION:Summer Sips and Sounds\, live music with EP Sax from 1 – 4pm! Open seating\, no reservations needed. Enjoy wines by the glass and bottle.\nNo outside food. We will be serving a delicious food from the kitchen to complement our wine selection.
URL:https://delvallewinery.com/event/summer-sips-and-sounds-with-ep-sax/
CATEGORIES:Event,Music
END:VEVENT
BEGIN:VEVENT
DTSTART;TZID=America/Los_Angeles:20250614T180000
DTEND;TZID=America/Los_Angeles:20250614T210000
DTSTAMP:20260424T123610
CREATED:20250331T121857Z
LAST-MODIFIED:20250603T030144Z
UID:6002-1749924000-1749934800@delvallewinery.com
SUMMARY:East Bay Grooveline
DESCRIPTION:Saturday Night in the courtyard live music with East Bay Grooveline! \nCome join the fun as Easy Bay Grooveline brings the FUNk\, Groove\, R&B\, disco\, 80s\, 90s and today! If you’ve never been to one of their shows\, get ready for high energy\, high fun\, brand trivia and many surprises to get you to dance\, sing-along\, reminisce\, and smile from ear to ear! \n$5 cover for the evening \nEnjoy wines by the glass and bottle.\nNo outside food. We will be serving a delicious food from the kitchen to complement our wine selection.
URL:https://delvallewinery.com/event/east-bay-grooveline-5/
CATEGORIES:Event,Music
END:VEVENT
END:VCALENDAR