BEGIN:VCALENDAR
VERSION:2.0
PRODID:-//Del Valle Winery - ECPv6.15.20//NONSGML v1.0//EN
CALSCALE:GREGORIAN
METHOD:PUBLISH
X-ORIGINAL-URL:https://delvallewinery.com
X-WR-CALDESC:Events for Del Valle Winery
REFRESH-INTERVAL;VALUE=DURATION:PT1H
X-Robots-Tag:noindex
X-PUBLISHED-TTL:PT1H
BEGIN:VTIMEZONE
TZID:America/Los_Angeles
BEGIN:DAYLIGHT
TZOFFSETFROM:-0800
TZOFFSETTO:-0700
TZNAME:PDT
DTSTART:20250309T100000
END:DAYLIGHT
BEGIN:STANDARD
TZOFFSETFROM:-0700
TZOFFSETTO:-0800
TZNAME:PST
DTSTART:20251102T090000
END:STANDARD
BEGIN:DAYLIGHT
TZOFFSETFROM:-0800
TZOFFSETTO:-0700
TZNAME:PDT
DTSTART:20260308T100000
END:DAYLIGHT
BEGIN:STANDARD
TZOFFSETFROM:-0700
TZOFFSETTO:-0800
TZNAME:PST
DTSTART:20261101T090000
END:STANDARD
BEGIN:DAYLIGHT
TZOFFSETFROM:-0800
TZOFFSETTO:-0700
TZNAME:PDT
DTSTART:20270314T100000
END:DAYLIGHT
BEGIN:STANDARD
TZOFFSETFROM:-0700
TZOFFSETTO:-0800
TZNAME:PST
DTSTART:20271107T090000
END:STANDARD
END:VTIMEZONE
BEGIN:VEVENT
DTSTART;TZID=America/Los_Angeles:20260306T180000
DTEND;TZID=America/Los_Angeles:20260306T210000
DTSTAMP:20260424T140204
CREATED:20251125T140318Z
LAST-MODIFIED:20251125T140318Z
UID:6974-1772820000-1772830800@delvallewinery.com
SUMMARY:Urban Sky
DESCRIPTION:Fire Pit Fridays live music with Urban Sky! Open seating\, no reservations needed. Enjoy wines by the glass and bottle. No outside food. We will be serving a delicious food from the kitchen to complement our wine selection.
URL:https://delvallewinery.com/event/urban-sky-11/
CATEGORIES:Event,Music
END:VEVENT
BEGIN:VEVENT
DTSTART;TZID=America/Los_Angeles:20260307T173000
DTEND;TZID=America/Los_Angeles:20260307T210000
DTSTAMP:20260424T140204
CREATED:20260130T151306Z
LAST-MODIFIED:20260130T151306Z
UID:7140-1772904600-1772917200@delvallewinery.com
SUMMARY:Terroir at the Table - A Celebration of Women\, Wine and Community
DESCRIPTION:Terroir at the Table –\nA Celebration of Women\, Wine\, and Community \n\n\nPresented by the Women’s Wine Collective of Livermore Valley \n\n\nSaturday\, March 7\, 2026 | 5:30 PM\nMartinelli Event Center\, Livermore\n$175 per person \n\n\nTICKETS \n\n\nSomething extraordinary is coming to Livermore Valley\, and you’re invited to be part of it. Terroir at the Table is a first-of-its-kind culinary celebration that brings together some of the most talented female chefs and winemakers in our region for an evening of exceptional food\, incredible wine\, and meaningful connection. This intimate 8-course tasting menu showcases the best of what Livermore Valley has to offer—from soil to glass\, from kitchen to table. \n\n\n  \nThe Experience \n\n\nEach course has been thoughtfully created by a celebrated local female chef and expertly paired with wine from a female-led winery. Beyond the extraordinary food and wine\, you’ll have the opportunity to meet the chefs and winemakers behind each course\, connect with fellow food and wine enthusiasts\, and witness the inaugural presentation of our Woman of the Year Award—honoring a local woman whose contributions make Livermore Valley a better place for all of us. \n\n\n  \nEvent Details \n\n\nSaturday\, March 7\, 2026 at 5:30 PM\nMartinelli Event Center\, Livermore\n$175 per person \n\n\n*A portion of proceeds will benefit local nonprofits\, including a charitable donation selected by our Woman of the Year recipient. \n\n\nDress Code is Elevated casual. \n  \n\n\nFeatured Chefs \nAurora Nava of Flaca’s\, Amanda Skog of Beyond the Table\, Tiana Megofna of The Mego Kitchen\, Debbie Casey of My Chef Debbie\, Julia McGurk of The Cheese Parlor\, Julia Steinman of Charming Fig\, Kim Gamble of Lanna Thai\, and Larissa Milano of Bluebirds Chocolate \n\n\n  \nFeatured Wineries \nDarcie Kent Estate Winery\, Del Valle Winery\, JMC Cellars\, McGrail Vineyards & Winery\, Omega Road Winery\, Rosa Fierro Cellars\, Sakura Winery\, and The Steven Kent Winery  \n\n\nThis is more than a dinner—it’s a celebration of the extraordinary women shaping our community\, one plate and one glass at a time. With extremely limited seating\, this is an event you won’t want to miss. \n\n\nSecure your seat at the table. \n 
URL:https://delvallewinery.com/event/terroir-at-the-table-a-celebration-of-women-wine-and-community/
CATEGORIES:Event
END:VEVENT
BEGIN:VEVENT
DTSTART;TZID=America/Los_Angeles:20260313T180000
DTEND;TZID=America/Los_Angeles:20260313T180000
DTSTAMP:20260424T140204
CREATED:20251125T140139Z
LAST-MODIFIED:20260307T204051Z
UID:6970-1773424800-1773424800@delvallewinery.com
SUMMARY:Frankie Bones
DESCRIPTION:Fire Pit Fridays live music with Frankie Bones! Open seating\, no reservations needed. Enjoy wines by the glass and bottle. No outside food. We will be serving a delicious food from the kitchen to complement our wine selection.
URL:https://delvallewinery.com/event/jneen/
CATEGORIES:Event,Music
END:VEVENT
BEGIN:VEVENT
DTSTART;TZID=America/Los_Angeles:20260320T180000
DTEND;TZID=America/Los_Angeles:20260320T210000
DTSTAMP:20260424T140204
CREATED:20251125T140225Z
LAST-MODIFIED:20251125T140225Z
UID:6972-1774029600-1774040400@delvallewinery.com
SUMMARY:The Blues Bottle Band
DESCRIPTION:Fire Pit Fridays live music with The Blues Bottle Band! Open seating\, no reservations needed. Enjoy wines by the glass and bottle. No outside food. We will be serving a delicious food from the kitchen to complement our wine selection.
URL:https://delvallewinery.com/event/the-blues-bottle-band/
CATEGORIES:Event,Music
END:VEVENT
BEGIN:VEVENT
DTSTART;TZID=America/Los_Angeles:20260324T173000
DTEND;TZID=America/Los_Angeles:20260324T193000
DTSTAMP:20260424T140204
CREATED:20260323T133113Z
LAST-MODIFIED:20260323T133113Z
UID:7282-1774373400-1774380600@delvallewinery.com
SUMMARY:Women Who Crush It: A Women’s Wine Collective Event
DESCRIPTION:Tuesday\, March 24\, 2026 (5:30 – 7:30pm)\nConcannon Vineyard\n4590 Tesla Road\nLivermore\, CA 94550 \nEnjoy an evening of wine tasting with the Women’s Wine Collective of the Livermore Valley.\nCelebrate Women’s History Month with a unique wine tasting event featuring 17 female-driven Livermore Valley Wineries!  Meet the women behind the wines as they each pour two of their favorites of the season.  The event will take place at the beautiful Concannon Vineyard.  A food truck will be available for purchase.  Bluebirds Chocolate will have decadent chocolates for sale on site. \n\nTickets are $35    \nParticipating Wineries: \nAlmost Famous Wine Company\, Cellar 13\, Charles R Vineyards\, Concannon Vineyard\, Darcie Kent Estate Winery\, Del Valle Winery\, Fenestra Winery\, Garré Vineyard & Winery\, JMC Cellars\, McGrail Vineyards & Winery\, Omega Road Winery\, Rodrigue Molyneaux Winery\, Rosa Fierro Cellars\, Sakura Winery\, The Steven Kent Winery\, Wente Vineyards & Wood Family Vineyards \n  \nA portion of the proceeds to benefit Tri Valley Haven.
URL:https://delvallewinery.com/event/women-who-crush-it-a-womens-wine-collective-event/
CATEGORIES:Event,Wine Tasting
END:VEVENT
BEGIN:VEVENT
DTSTART;TZID=America/Los_Angeles:20260327T180000
DTEND;TZID=America/Los_Angeles:20260327T210000
DTSTAMP:20260424T140204
CREATED:20251125T140403Z
LAST-MODIFIED:20251125T140403Z
UID:6976-1774634400-1774645200@delvallewinery.com
SUMMARY:LunaFish
DESCRIPTION:Fire Pit Fridays live music with LunaFish! Open seating\, no reservations needed. Enjoy wines by the glass and bottle. No outside food. We will be serving a delicious food from the kitchen to complement our wine selection.
URL:https://delvallewinery.com/event/lunafish-10/
CATEGORIES:Event,Music
END:VEVENT
END:VCALENDAR